Workbook
Name delibm: DelibM!$A$1:$B$15
Name delma: [1]Delib!$A$1:$B$15

Sheet DelibM
A1: Código Proc. | B1: Complemento
A2: 303050233 | B2: 1254.56
A3: 405050364 | B3: 628.65
A4: 405010184 | B4: 286.26
A5: 404010369 | B5: 511.56
A6: 409010154 | B6: 500
A7: 418010013 | B7: 4361.55
A8: 418010021 | B8: 2056.59
A9: 418010030 | B9: 2577.6
A10: 418010080 | B10: 1200
A11: 418020019 | B11: 1800
A12: 418020027 | B12: 1800
A13: 418020035 | B13: 1200
... A15: 309070023 | B15: 300

Sheet Físico
A1: Estabelecimentos CNES-SC | B1: 0610062 HOSPITAL DE OLHOS DE CONCORDIA LTDA | C1: 2306336 HOSPITAL SAO JOSE | D1: 2379627 HOSPITAL SAMARIA | E1: 2491249 HOSPITAL SANTA CRUZ DE CANOINHAS | F1: 2521873 HOSPITAL BEATRIZ RAMOS | G1: 2522411 HOSPITAL AZAMBUJA | H1: 2522489 ASSOCIACAO HOSPITAL E MATERNIDADE DOM JOAQUIM | I1: 2522691 HOSPITAL E MATERNIDADE MARIETA KONDER BORNHAUSEN | J1: 2558246 HOSPITAL SANTA ISABEL | K1: 2568713 HOSPITAL REGIONAL ALTO VALE | L1: 2778831 HOSPITAL NOSSA SENHORA DA IMACULADA CONCEICAO | M1: 2884402 INSTITUTO WSC DE OFTALMOLOGIA | N1: 3123251 HOSPITAL DE OLHOS DE BLUMENAU | O1: 3180948 CLINICA DE OLHOS DR ROBERTO VON HERTWIG | P1: 4146336 HCF HOSPITAL DA CATARATA DE FLORIANOPOLIS | Q1: 4564812 MULTI HOSPITAL | R1: 5164222 NIEDERAUER CLINICA DE OLHOS HOSPITAL DIA LTDA | S1: 5195756 CIS NORDESTE SC | T1: 7728557 BOJ FILIAL | U1: 9175849 OPHTALMUS CLINICA DE OLHOS CC | V1: 9717463 HOSPITAL DA VISAO JARAGUA DO SUL | W1: Total
A2: 0405050364 TRATAMENTO CIRURGICO DE PTERIGIO | B2: 7 | C2: 0 | D2: 1 | E2: 6 | F2: 0 | G2: 28 | H2: 28 | I2: 96 | J2: 0 | K2: 8 | L2: 4 | M2: 1 | N2: 5 | O2: 7 | P2: 47 | Q2: 44 | R2: 16 | S2: 11 | T2: 32 | U2: 13 | V2: 43 | W2: 397
A3: 0405010184 TRATAMENTO CIRURGICO DE BLEFAROCALASE | B3: 0 | C3: 0 | D3: 0 | E3: 0 | F3: 57 | G3: 4 | H3: 70 | I3: 0 | J3: 0 | K3: 0 | L3: 0 | M3: 0 | N3: 0 | O3: 0 | P3: 0 | Q3: 16 | R3: 0 | S3: 0 | T3: 0 | U3: 0 | V3: 0 | W3: 147
A4: 0409010154 EXTRACAO ENDOSCOPICA DE CORPO ESTRANHO / CALCULO | B4: 0 | C4: 3 | D4: 0 | E4: 4 | F4: 0 | G4: 0 | H4: 0 | I4: 0 | J4: 15 | K4: 6 | L4: 0 | M4: 0 | N4: 0 | O4: 0 | P4: 0 | Q4: 0 | R4: 0 | S4: 0 | T4: 0 | U4: 0 | V4: 0 | W4: 28
A5: Total | B5: 7 | C5: 3 | D5: 1 | E5: 10 | F5: 57 | G5: 32 | H5: 98 | I5: 96 | J5: 15 | K5: 14 | L5: 4 | M5: 1 | N5: 5 | O5: 7 | P5: 47 | Q5: 60 | R5: 16 | S5: 11 | T5: 32 | U5: 13 | V5: 43 | W5: 572

Sheet Financeiro
A1: Estabelecimentos CNES-SC | B1: 0610062 HOSPITAL DE OLHOS DE CONCORDIA LTDA | C1: 2306336 HOSPITAL SAO JOSE | D1: 2379627 HOSPITAL SAMARIA | E1: 2491249 HOSPITAL SANTA CRUZ DE CANOINHAS | F1: 2521873 HOSPITAL BEATRIZ RAMOS | G1: 2522411 HOSPITAL AZAMBUJA | H1: 2522489 ASSOCIACAO HOSPITAL E MATERNIDADE DOM JOAQUIM | I1: 2522691 HOSPITAL E MATERNIDADE MARIETA KONDER BORNHAUSEN | J1: 2558246 HOSPITAL SANTA ISABEL | K1: 2568713 HOSPITAL REGIONAL ALTO VALE | L1: 2778831 HOSPITAL NOSSA SENHORA DA IMACULADA CONCEICAO | M1: 2884402 INSTITUTO WSC DE OFTALMOLOGIA | N1: 3123251 HOSPITAL DE OLHOS DE BLUMENAU | O1: 3180948 CLINICA DE OLHOS DR ROBERTO VON HERTWIG | P1: 4146336 HCF HOSPITAL DA CATARATA DE FLORIANOPOLIS | Q1: 4564812 MULTI HOSPITAL | R1: 5164222 NIEDERAUER CLINICA DE OLHOS HOSPITAL DIA LTDA | S1: 5195756 CIS NORDESTE SC | T1: 7728557 BOJ FILIAL | U1: 9175849 OPHTALMUS CLINICA DE OLHOS CC | V1: 9717463 HOSPITAL DA VISAO JARAGUA DO SUL | W1: Total
A2: 0405050364 TRATAMENTO CIRURGICO DE PTERIGIO | B2: 1466.85 | C2: 0 | D2: 209.55 | E2: 1257.3 | F2: 0 | G2: 5867.4 | H2: 5867.4 | I2: 20116.8 | J2: 0 | K2: 1676.4 | L2: 838.2 | M2: 209.55 | N2: 1047.75 | O2: 1466.85 | P2: 9848.85 | Q2: 9220.2 | R2: 3352.8 | S2: 2305.05 | T2: 6705.6 | U2: 2724.15 | V2: 9010.65 | W2: 83191.35
A3: 0405010184 TRATAMENTO CIRURGICO DE BLEFAROCALASE | B3: 0 | C3: 0 | D3: 0 | E3: 0 | F3: 5438.94 | G3: 381.68 | H3: 6679.4 | I3: 0 | J3: 0 | K3: 0 | L3: 0 | M3: 0 | N3: 0 | O3: 0 | P3: 0 | Q3: 1526.72 | R3: 0 | S3: 0 | T3: 0 | U3: 0 | V3: 0 | W3: 14026.74
A4: 0409010154 EXTRACAO ENDOSCOPICA DE CORPO ESTRANHO / CALCULO | B4: 0 | C4: 89.52 | D4: 0 | E4: 119.36 | F4: 0 | G4: 0 | H4: 0 | I4: 0 | J4: 447.6 | K4: 179.04 | L4: 0 | M4: 0 | N4: 0 | O4: 0 | P4: 0 | Q4: 0 | R4: 0 | S4: 0 | T4: 0 | U4: 0 | V4: 0 | W4: 835.52
A5: Total | B5: 1466.85 | C5: 89.52 | D5: 209.55 | E5: 1376.66 | F5: 5438.94 | G5: 6249.08 | H5: 12546.8 | I5: 20116.8 | J5: 447.6 | K5: 1855.44 | L5: 838.2 | M5: 209.55 | N5: 1047.75 | O5: 1466.85 | P5: 9848.85 | Q5: 10746.92 | R5: 3352.8 | S5: 2305.05 | T5: 6705.6 | U5: 2724.15 | V5: 9010.65 | W5: 98053.61

Sheet Complemento
B1: Estabelecimentos CNES-SC | C1: 0610062 HOSPITAL DE OLHOS DE CONCORDIA LTDA | D1: 2306336 HOSPITAL SAO JOSE | E1: 2379627 HOSPITAL SAMARIA | F1: 2491249 HOSPITAL SANTA CRUZ DE CANOINHAS | G1: 2521873 HOSPITAL BEATRIZ RAMOS | H1: 2522411 HOSPITAL AZAMBUJA | I1: 2522489 ASSOCIACAO HOSPITAL E MATERNIDADE DOM JOAQUIM | J1: 2522691 HOSPITAL E MATERNIDADE MARIETA KONDER BORNHAUSEN | K1: 2558246 HOSPITAL SANTA ISABEL | L1: 2568713 HOSPITAL REGIONAL ALTO VALE | M1: 2778831 HOSPITAL NOSSA SENHORA DA IMACULADA CONCEICAO | N1: 2884402 INSTITUTO WSC DE OFTALMOLOGIA | O1: 3123251 HOSPITAL DE OLHOS DE BLUMENAU | P1: 3180948 CLINICA DE OLHOS DR ROBERTO VON HERTWIG | Q1: 4146336 HCF HOSPITAL DA CATARATA DE FLORIANOPOLIS | R1: 4564812 MULTI HOSPITAL | S1: 5164222 NIEDERAUER CLINICA DE OLHOS HOSPITAL DIA LTDA | T1: 5195756 CIS NORDESTE SC | U1: 7728557 BOJ FILIAL | V1: 9175849 OPHTALMUS CLINICA DE OLHOS CC | W1: 9717463 HOSPITAL DA VISAO JARAGUA DO SUL | X1: Total
A2: =LEFT(B2,10)*1 -> 405050364 | B2: 0405050364 TRATAMENTO CIRURGICO DE PTERIGIO | C2: =IFERROR(VLOOKUP($A2,delibm,2,0)*(Físico!B2),0) -> 4400.55 | D2: =IFERROR(VLOOKUP($A2,delibm,2,0)*(Físico!C2),0) -> 0 | E2: =IFERROR(VLOOKUP($A2,delibm,2,0)*(Físico!D2),0) -> 628.65 | F2: =IFERROR(VLOOKUP($A2,delibm,2,0)*(Físico!E2),0) -> 3771.9 | G2: =IFERROR(VLOOKUP($A2,delibm,2,0)*(Físico!F2),0) -> 0 | H2: =IFERROR(VLOOKUP($A2,delibm,2,0)*(Físico!G2),0) -> 17602.2 | I2: =IFERROR(VLOOKUP($A2,delibm,2,0)*(Físico!H2),0) -> 17602.2 | J2: =IFERROR(VLOOKUP($A2,delibm,2,0)*(Físico!I2),0) -> 60350.4 | ... W2: =IFERROR(VLOOKUP($A2,delibm,2,0)*(Físico!V2),0) -> 27031.95 | X2: =SUM(C2:W2) -> 249574.05
A3: =LEFT(B3,10)*1 -> 405010184 | B3: 0405010184 TRATAMENTO CIRURGICO DE BLEFAROCALASE | C3: =IFERROR(VLOOKUP($A3,delibm,2,0)*(Físico!B3),0) -> 0 | D3: =IFERROR(VLOOKUP($A3,delibm,2,0)*(Físico!C3),0) -> 0 | E3: =IFERROR(VLOOKUP($A3,delibm,2,0)*(Físico!D3),0) -> 0 | F3: =IFERROR(VLOOKUP($A3,delibm,2,0)*(Físico!E3),0) -> 0 | G3: =IFERROR(VLOOKUP($A3,delibm,2,0)*(Físico!F3),0) -> 16316.82 | H3: =IFERROR(VLOOKUP($A3,delibm,2,0)*(Físico!G3),0) -> 1145.04 | I3: =IFERROR(VLOOKUP($A3,delibm,2,0)*(Físico!H3),0) -> 20038.2 | J3: =IFERROR(VLOOKUP($A3,delibm,2,0)*(Físico!I3),0) -> 0 | ... W3: =IFERROR(VLOOKUP($A3,delibm,2,0)*(Físico!V3),0) -> 0 | X3: =SUM(C3:W3) -> 42080.22
A4: =LEFT(B4,10)*1 -> 409010154 | B4: 0409010154 EXTRACAO ENDOSCOPICA DE CORPO ESTRANHO / CALCULO | C4: =IFERROR(VLOOKUP($A4,delibm,2,0)*(Físico!B4),0) -> 0 | D4: =IFERROR(VLOOKUP($A4,delibm,2,0)*(Físico!C4),0) -> 1500 | E4: =IFERROR(VLOOKUP($A4,delibm,2,0)*(Físico!D4),0) -> 0 | F4: =IFERROR(VLOOKUP($A4,delibm,2,0)*(Físico!E4),0) -> 2000 | G4: =IFERROR(VLOOKUP($A4,delibm,2,0)*(Físico!F4),0) -> 0 | H4: =IFERROR(VLOOKUP($A4,delibm,2,0)*(Físico!G4),0) -> 0 | I4: =IFERROR(VLOOKUP($A4,delibm,2,0)*(Físico!H4),0) -> 0 | J4: =IFERROR(VLOOKUP($A4,delibm,2,0)*(Físico!I4),0) -> 0 | ... W4: =IFERROR(VLOOKUP($A4,delibm,2,0)*(Físico!V4),0) -> 0 | X4: =SUM(C4:W4) -> 14000
B5: Total | C5: =SUM(C2:C4) -> 4400.55 | D5: =SUM(D2:D4) -> 1500 | E5: =SUM(E2:E4) -> 628.65 | F5: =SUM(F2:F4) -> 5771.9 | G5: =SUM(G2:G4) -> 16316.82 | H5: =SUM(H2:H4) -> 18747.24 | I5: =SUM(I2:I4) -> 37640.4 | J5: =SUM(J2:J4) -> 60350.4 | ... X5: =SUM(X2:X4) -> 305654.27

Sheet Total
A1: Estabelecimentos CNES-SC | B1: 0610062 HOSPITAL DE OLHOS DE CONCORDIA LTDA | C1: 2306336 HOSPITAL SAO JOSE | D1: 2379627 HOSPITAL SAMARIA | E1: 2491249 HOSPITAL SANTA CRUZ DE CANOINHAS | F1: 2521873 HOSPITAL BEATRIZ RAMOS | G1: 2522411 HOSPITAL AZAMBUJA | H1: 2522489 ASSOCIACAO HOSPITAL E MATERNIDADE DOM JOAQUIM | I1: 2522691 HOSPITAL E MATERNIDADE MARIETA KONDER BORNHAUSEN | J1: 2558246 HOSPITAL SANTA ISABEL | K1: 2568713 HOSPITAL REGIONAL ALTO VALE | L1: 2778831 HOSPITAL NOSSA SENHORA DA IMACULADA CONCEICAO | M1: 2884402 INSTITUTO WSC DE OFTALMOLOGIA | N1: 3123251 HOSPITAL DE OLHOS DE BLUMENAU | O1: 3180948 CLINICA DE OLHOS DR ROBERTO VON HERTWIG | P1: 4146336 HCF HOSPITAL DA CATARATA DE FLORIANOPOLIS | Q1: 4564812 MULTI HOSPITAL | R1: 5164222 NIEDERAUER CLINICA DE OLHOS HOSPITAL DIA LTDA | S1: 5195756 CIS NORDESTE SC | T1: 7728557 BOJ FILIAL | U1: 9175849 OPHTALMUS CLINICA DE OLHOS CC | V1: 9717463 HOSPITAL DA VISAO JARAGUA DO SUL | W1: Total
A2: 0405050364 TRATAMENTO CIRURGICO DE PTERIGIO | B2: =Financeiro!B2+Complemento!C2 -> 5867.4 | C2: =Financeiro!C2+Complemento!D2 -> 0 | D2: =Financeiro!D2+Complemento!E2 -> 838.2 | E2: =Financeiro!E2+Complemento!F2 -> 5029.2 | F2: =Financeiro!F2+Complemento!G2 -> 0 | G2: =Financeiro!G2+Complemento!H2 -> 23469.6 | H2: =Financeiro!H2+Complemento!I2 -> 23469.6 | I2: =Financeiro!I2+Complemento!J2 -> 80467.2 | ... V2: =Financeiro!V2+Complemento!W2 -> 36042.6 | W2: =SUM(B2:V2) -> 332765.4
A3: 0405010184 TRATAMENTO CIRURGICO DE BLEFAROCALASE | B3: =Financeiro!B3+Complemento!C3 -> 0 | C3: =Financeiro!C3+Complemento!D3 -> 0 | D3: =Financeiro!D3+Complemento!E3 -> 0 | E3: =Financeiro!E3+Complemento!F3 -> 0 | F3: =Financeiro!F3+Complemento!G3 -> 21755.76 | G3: =Financeiro!G3+Complemento!H3 -> 1526.72 | H3: =Financeiro!H3+Complemento!I3 -> 26717.6 | I3: =Financeiro!I3+Complemento!J3 -> 0 | ... V3: =Financeiro!V3+Complemento!W3 -> 0 | W3: =SUM(B3:V3) -> 56106.96
A4: 0409010154 EXTRACAO ENDOSCOPICA DE CORPO ESTRANHO / CALCULO | B4: =Financeiro!B4+Complemento!C4 -> 0 | C4: =Financeiro!C4+Complemento!D4 -> 1589.52 | D4: =Financeiro!D4+Complemento!E4 -> 0 | E4: =Financeiro!E4+Complemento!F4 -> 2119.36 | F4: =Financeiro!F4+Complemento!G4 -> 0 | G4: =Financeiro!G4+Complemento!H4 -> 0 | H4: =Financeiro!H4+Complemento!I4 -> 0 | I4: =Financeiro!I4+Complemento!J4 -> 0 | ... V4: =Financeiro!V4+Complemento!W4 -> 0 | W4: =SUM(B4:V4) -> 14835.52
A5: Total | B5: =SUM(B2:B4) -> 5867.4 | C5: =SUM(C2:C4) -> 1589.52 | D5: =SUM(D2:D4) -> 838.2 | E5: =SUM(E2:E4) -> 7148.56 | F5: =SUM(F2:F4) -> 21755.76 | G5: =SUM(G2:G4) -> 24996.32 | H5: =SUM(H2:H4) -> 50187.2 | I5: =SUM(I2:I4) -> 80467.2 | ... W5: =SUM(W2:W4) -> 403707.88
